BEGIN:VCALENDAR
VERSION:2.0
PRODID:-//Water@UW-Madison - ECPv6.15.20//NONSGML v1.0//EN
CALSCALE:GREGORIAN
METHOD:PUBLISH
X-ORIGINAL-URL:https://water.wisc.edu
X-WR-CALDESC:Events for Water@UW-Madison
REFRESH-INTERVAL;VALUE=DURATION:PT1H
X-Robots-Tag:noindex
X-PUBLISHED-TTL:PT1H
BEGIN:VTIMEZONE
TZID:America/Chicago
BEGIN:DAYLIGHT
TZOFFSETFROM:-0600
TZOFFSETTO:-0500
TZNAME:CDT
DTSTART:20220313T080000
END:DAYLIGHT
BEGIN:STANDARD
TZOFFSETFROM:-0500
TZOFFSETTO:-0600
TZNAME:CST
DTSTART:20221106T070000
END:STANDARD
BEGIN:DAYLIGHT
TZOFFSETFROM:-0600
TZOFFSETTO:-0500
TZNAME:CDT
DTSTART:20230312T080000
END:DAYLIGHT
BEGIN:STANDARD
TZOFFSETFROM:-0500
TZOFFSETTO:-0600
TZNAME:CST
DTSTART:20231105T070000
END:STANDARD
BEGIN:DAYLIGHT
TZOFFSETFROM:-0600
TZOFFSETTO:-0500
TZNAME:CDT
DTSTART:20240310T080000
END:DAYLIGHT
BEGIN:STANDARD
TZOFFSETFROM:-0500
TZOFFSETTO:-0600
TZNAME:CST
DTSTART:20241103T070000
END:STANDARD
END:VTIMEZONE
BEGIN:VEVENT
DTSTART;TZID=America/Chicago:20231107T160000
DTEND;TZID=America/Chicago:20231107T180000
DTSTAMP:20260422T094717
CREATED:20231010T152410Z
LAST-MODIFIED:20231010T153738Z
UID:6206-1699372800-1699380000@water.wisc.edu
SUMMARY:2023 Fall Art & Science Poster Session
DESCRIPTION:Water@UW-Madison is a cross-disciplinary organization; we look forward to sharing both traditional and non-traditional science posters\, art\, photography and other work. Please consider sharing a poster\, graphical display\, or work of art. Re-purposed work from past events is very welcome! \nRegister \n 
URL:https://water.wisc.edu/event/fall-art-science-poster-session/
LOCATION:Memorial Union\, 800 Langdon St\, Madison\, WI\, 53706\, United States
ORGANIZER;CN="Water@UW-Madison":MAILTO:water@mailplus.wisc.edu
END:VEVENT
END:VCALENDAR