BEGIN:VCALENDAR
VERSION:2.0
PRODID:-//Water@UW-Madison - ECPv6.15.20//NONSGML v1.0//EN
CALSCALE:GREGORIAN
METHOD:PUBLISH
X-WR-CALNAME:Water@UW-Madison
X-ORIGINAL-URL:https://water.wisc.edu
X-WR-CALDESC:Events for Water@UW-Madison
REFRESH-INTERVAL;VALUE=DURATION:PT1H
X-Robots-Tag:noindex
X-PUBLISHED-TTL:PT1H
BEGIN:VTIMEZONE
TZID:America/Chicago
BEGIN:DAYLIGHT
TZOFFSETFROM:-0600
TZOFFSETTO:-0500
TZNAME:CDT
DTSTART:20230312T080000
END:DAYLIGHT
BEGIN:STANDARD
TZOFFSETFROM:-0500
TZOFFSETTO:-0600
TZNAME:CST
DTSTART:20231105T070000
END:STANDARD
BEGIN:DAYLIGHT
TZOFFSETFROM:-0600
TZOFFSETTO:-0500
TZNAME:CDT
DTSTART:20240310T080000
END:DAYLIGHT
BEGIN:STANDARD
TZOFFSETFROM:-0500
TZOFFSETTO:-0600
TZNAME:CST
DTSTART:20241103T070000
END:STANDARD
BEGIN:DAYLIGHT
TZOFFSETFROM:-0600
TZOFFSETTO:-0500
TZNAME:CDT
DTSTART:20250309T080000
END:DAYLIGHT
BEGIN:STANDARD
TZOFFSETFROM:-0500
TZOFFSETTO:-0600
TZNAME:CST
DTSTART:20251102T070000
END:STANDARD
END:VTIMEZONE
BEGIN:VEVENT
DTSTART;TZID=America/Chicago:20240506T140000
DTEND;TZID=America/Chicago:20240506T170000
DTSTAMP:20260422T014321
CREATED:20231010T154254Z
LAST-MODIFIED:20240418T205030Z
UID:6221-1715004000-1715014800@water.wisc.edu
SUMMARY:Water@UW-Madison Spring Symposium
DESCRIPTION:Celebrating 10 Years: Reflecting on the Past\, Looking Toward the Future\nWater@UW-Madison is excited to announce its 2024 Spring Symposium\, taking place on Monday\, May 6th at Union South in Madison\, WI. \n \nAs we celebrate our 10th anniversary\, we want to reflect on the incredible work accomplished in our water community. We invite you to join us for an afternoon of talks showcasing diverse and impactful water research (2-5pm)\, followed by a networking mixer and opening reception for the Flow Art & Science Project (5-7pm). Enjoy appetizers\, a cash bar\, and ample time to connect with colleagues and forge new collaborations. \nThe symposium will be held in-person. \nSymposium Agenda \nRegister Here \nVolunteer Here \nOur Keynote Speaker will be: William “Nąąwącekǧize” Quackenbush.  \n\nHo-Chunk Nation Preservation Representative\nHo-Chunk Deer Clan Tribal Member\nTribal Historic Preservation Officer\nCultural Resources Division Manager\n\nIn 1998\, William began a career in the Ho-Chunk Nation Heritage Preservation Department as a Land Specialist focusing on Realty\, Land into Trust Applications and Cultural & Natural Resource Management. In 2004\, the Cultural Resources Division requested for William to be transferred to their Division to become the Tribal Historic Preservation Officer (THPO) for the Ho-Chunk Nation\, who was at that time creating their HCN THPO program to address tribal preservation needs. William has served as the HCN’s THPO from 2006 to present. In 2006\, William became the HCN Heritage Preservation Department – Cultural Resources Division Manager. \nWilliam’s current responsibilities are: \n\nTribal Historic Preservation Officer (THPO) – 2005 to present\nCultural Resources Division Manager (CRD) – 2006 to present\nNAGPRA Designee Alternate – 2005 to present\nGround Penetrating Radar Operator (GPR) – Certified 2002 to present\nHo-Chunk Nation Tribal Historian – 2004 to present\nHo-Chunk Nation Tribal Monitor – Certified 2012 to present\nHo-Chunk Nation Fire Investigator – Certified 2008 to present\n\nWilliam currently holds a seat on the following State\, Federal or National Boards/Committees: \n\nWisconsin Inter-Tribal Repatriations Committee (WITRC) – President\nKickapoo Valley Reserve (KVR) – Environmental Seat\n\nWilliam has served on the following Boards/Committees/Services: \n\nNational Association of Tribal Historic Preservation Officers (NATHPO) – Board Member\nSauk County USDA/FSA Committee – Tribal Minority Advisor (Maximum term)\nMillston Fire & Rescue – Assistant Fire Chief (Retired)\nMississippi Valley Archaeological Center (MVAC) – Tribal Advisor\nFox / Wisconsin Heritage Parkway – Board Member\n\nWilliam receives preservation and cultural support\, guidance and/or advice through: \n\nHo-Chunk Nation Heritage Preservation Board – comprised of 1 HPD Executive Director and 5 Board members\, with proficient traditional cultural knowledge in their own fields.\n\nMission Statement: “To protect and preserve the HooCak culture and heritage as living forces in the lives of the HooCak Wajic. To nurture our Nation’s culture – to strengthen it as a living source of identity and pride for our People.”\n\n\nHo-Chunk Nation Traditional Court – comprised of 12 Traditional Tribal members and alternates representing each of the 12 Clans who are proficient as cultural advisors.
URL:https://water.wisc.edu/event/2024-spring-symposium/
LOCATION:Union South\, 1308 W Dayton St\, Madison\, WI\, 53715\, United States
ORGANIZER;CN="Water@UW-Madison":MAILTO:water@mailplus.wisc.edu
END:VEVENT
BEGIN:VEVENT
DTSTART;TZID=America/Chicago:20240506T170000
DTEND;TZID=America/Chicago:20240506T190000
DTSTAMP:20260422T014321
CREATED:20231010T154721Z
LAST-MODIFIED:20240418T205108Z
UID:6224-1715014800-1715022000@water.wisc.edu
SUMMARY:10th Anniversary Celebration
DESCRIPTION:Join us following the Spring Symposium as we celebrate 10 years of Water@UW-Madison. We’ll provide appetizers\, a cash bar and ample time for both structured and unstructured networking. Come for the symposium\, stay for the celebration! \nThis year’s Flow Project cohort is putting together an incredible set of work inspired by water research at UW-Madison and beyond. Several interactive pieces are in the works\, and we are excited to provide an environment in which you can appreciate their work\, and perhaps find new insights that can inspire your own creative journey. \nRegister Here \nVolunteer Here
URL:https://water.wisc.edu/event/spring-symposium-celebration/
LOCATION:Union South\, 1308 W Dayton St\, Madison\, WI\, 53715\, United States
ORGANIZER;CN="Water@UW-Madison":MAILTO:water@mailplus.wisc.edu
END:VEVENT
END:VCALENDAR