BEGIN:VCALENDAR
VERSION:2.0
PRODID:-//Water@UW-Madison - ECPv6.15.20//NONSGML v1.0//EN
CALSCALE:GREGORIAN
METHOD:PUBLISH
X-ORIGINAL-URL:https://water.wisc.edu
X-WR-CALDESC:Events for Water@UW-Madison
REFRESH-INTERVAL;VALUE=DURATION:PT1H
X-Robots-Tag:noindex
X-PUBLISHED-TTL:PT1H
BEGIN:VTIMEZONE
TZID:America/Chicago
BEGIN:DAYLIGHT
TZOFFSETFROM:-0600
TZOFFSETTO:-0500
TZNAME:CDT
DTSTART:20240310T080000
END:DAYLIGHT
BEGIN:STANDARD
TZOFFSETFROM:-0500
TZOFFSETTO:-0600
TZNAME:CST
DTSTART:20241103T070000
END:STANDARD
BEGIN:DAYLIGHT
TZOFFSETFROM:-0600
TZOFFSETTO:-0500
TZNAME:CDT
DTSTART:20250309T080000
END:DAYLIGHT
BEGIN:STANDARD
TZOFFSETFROM:-0500
TZOFFSETTO:-0600
TZNAME:CST
DTSTART:20251102T070000
END:STANDARD
BEGIN:DAYLIGHT
TZOFFSETFROM:-0600
TZOFFSETTO:-0500
TZNAME:CDT
DTSTART:20260308T080000
END:DAYLIGHT
BEGIN:STANDARD
TZOFFSETFROM:-0500
TZOFFSETTO:-0600
TZNAME:CST
DTSTART:20261101T070000
END:STANDARD
END:VTIMEZONE
BEGIN:VEVENT
DTSTART;TZID=America/Chicago:20250221T103000
DTEND;TZID=America/Chicago:20250221T113000
DTSTAMP:20260421T120936
CREATED:20250211T165118Z
LAST-MODIFIED:20250211T170342Z
UID:8675-1740133800-1740137400@water.wisc.edu
SUMMARY:ASC Director Finalist: Christy Remucal
DESCRIPTION:Christy Remucal\, Ph.D.\, professor of civil and environmental engineering and interim director of the ASC\n\nPresentation Title: “Addressing water quality issues using actionable science”\n10:30-11:30 a.m. Friday\, Feb. 21\, 2025\nLocation: Biotechnology Center Auditorium (Genetics-Biotechnology Center Building)\, 425 Henry Mall\, Room 1111\nChristy Remucal Biography\nChristy Remucal’s CV\n  \nJen Hauxwell\, research program associate director of the Aquatic Sciences Center (ASC)\, and Christina (Christy) Remucal\, professor of civil and environmental engineering and interim ASC director\, have been named finalists for the ASC Director position. \nASC Director Position Description \nThe director oversees operations of the ASC\, which is headquartered in the UW–Madison Office of the Vice Chancellor for Research. \nThe ACS administers two institutes with complementary missions. The Sea Grant Institute and Water Resources Institute both support multidisciplinary research\, education and outreach for the protection and sustainable use of Wisconsin’s water resources. The center was established as a unique partnership in 1999. It is a highly efficient and cost-effective state-federal model for drawing out the best from Wisconsin’s aquatic scientists who\, collaboratively\, make a difference statewide\, nationwide and around the world. The ASC is also home to the multi-disciplinary organization Water@UW-Madison. \nLive Streams will be posted here: https://research.wisc.edu/two-finalists-announced-for-aquatic-sciences-center-director/  \nYou are invited to share feedback on the finalists by using this form (Deadline to submit feedback is: Feb.28):  https://forms.gle/BVv2LbXuCv4fkwdw8.
URL:https://water.wisc.edu/event/asc-director-finalist-christy-remucal/
LOCATION:Biotechnology Center Auditorium (Room 1111)\, 425 Henry Mall\, Madison\, WI\, WI\, 53706\, United States
END:VEVENT
END:VCALENDAR