BEGIN:VCALENDAR
VERSION:2.0
PRODID:-//Water@UW-Madison - ECPv6.15.20//NONSGML v1.0//EN
CALSCALE:GREGORIAN
METHOD:PUBLISH
X-ORIGINAL-URL:https://water.wisc.edu
X-WR-CALDESC:Events for Water@UW-Madison
REFRESH-INTERVAL;VALUE=DURATION:PT1H
X-Robots-Tag:noindex
X-PUBLISHED-TTL:PT1H
BEGIN:VTIMEZONE
TZID:America/Chicago
BEGIN:DAYLIGHT
TZOFFSETFROM:-0600
TZOFFSETTO:-0500
TZNAME:CDT
DTSTART:20240310T080000
END:DAYLIGHT
BEGIN:STANDARD
TZOFFSETFROM:-0500
TZOFFSETTO:-0600
TZNAME:CST
DTSTART:20241103T070000
END:STANDARD
BEGIN:DAYLIGHT
TZOFFSETFROM:-0600
TZOFFSETTO:-0500
TZNAME:CDT
DTSTART:20250309T080000
END:DAYLIGHT
BEGIN:STANDARD
TZOFFSETFROM:-0500
TZOFFSETTO:-0600
TZNAME:CST
DTSTART:20251102T070000
END:STANDARD
BEGIN:DAYLIGHT
TZOFFSETFROM:-0600
TZOFFSETTO:-0500
TZNAME:CDT
DTSTART:20260308T080000
END:DAYLIGHT
BEGIN:STANDARD
TZOFFSETFROM:-0500
TZOFFSETTO:-0600
TZNAME:CST
DTSTART:20261101T070000
END:STANDARD
END:VTIMEZONE
BEGIN:VEVENT
DTSTART;TZID=America/Chicago:20250226T120500
DTEND;TZID=America/Chicago:20250226T125500
DTSTAMP:20260421T103948
CREATED:20250110T204340Z
LAST-MODIFIED:20250225T162701Z
UID:8604-1740571500-1740574500@water.wisc.edu
SUMMARY:Rising Tides Seminar: Dr. Karletta Chief
DESCRIPTION:Join Water@UW-Madison and the Center for Limnology in welcoming Dr. Karletta Chief to the UW-Madison campus for this year’s Rising Tides seminar. Dr. Chief will present her talk titled: University-Community Research  Response to COVID-19. \nThe diversity\, equity\, and inclusion committee at the Center for Limnology has created an annual lecture series. The invited speaker this year is Dr. Karletta Chief from the University of Arizona. Dr. Chief is a Diné hydrologist who devotes all her environmental research to supporting the resilience of Indigenous communities and training of students in sustainable technologies. \nDate\, time\, location:  Feb. 26\, 2025. 12:05 – 12:55  in Water Science Engineering Laboratory Room 102 (660 N Park St.)
URL:https://water.wisc.edu/event/rising-tides-seminar-dr-karletta-chief/
LOCATION:102 Water Science and Engineering Laboratory\, 1415 Engineering Drive\, Madison\, WI\, 53706\, United States
END:VEVENT
END:VCALENDAR