BEGIN:VCALENDAR
VERSION:2.0
PRODID:-//Water@UW-Madison - ECPv6.15.20//NONSGML v1.0//EN
CALSCALE:GREGORIAN
METHOD:PUBLISH
X-ORIGINAL-URL:https://water.wisc.edu
X-WR-CALDESC:Events for Water@UW-Madison
REFRESH-INTERVAL;VALUE=DURATION:PT1H
X-Robots-Tag:noindex
X-PUBLISHED-TTL:PT1H
BEGIN:VTIMEZONE
TZID:America/Chicago
BEGIN:DAYLIGHT
TZOFFSETFROM:-0600
TZOFFSETTO:-0500
TZNAME:CDT
DTSTART:20240310T080000
END:DAYLIGHT
BEGIN:STANDARD
TZOFFSETFROM:-0500
TZOFFSETTO:-0600
TZNAME:CST
DTSTART:20241103T070000
END:STANDARD
BEGIN:DAYLIGHT
TZOFFSETFROM:-0600
TZOFFSETTO:-0500
TZNAME:CDT
DTSTART:20250309T080000
END:DAYLIGHT
BEGIN:STANDARD
TZOFFSETFROM:-0500
TZOFFSETTO:-0600
TZNAME:CST
DTSTART:20251102T070000
END:STANDARD
BEGIN:DAYLIGHT
TZOFFSETFROM:-0600
TZOFFSETTO:-0500
TZNAME:CDT
DTSTART:20260308T080000
END:DAYLIGHT
BEGIN:STANDARD
TZOFFSETFROM:-0500
TZOFFSETTO:-0600
TZNAME:CST
DTSTART:20261101T070000
END:STANDARD
END:VTIMEZONE
BEGIN:VEVENT
DTSTART;TZID=America/Chicago:20250326T180000
DTEND;TZID=America/Chicago:20250326T200000
DTSTAMP:20260421T103935
CREATED:20250218T173207Z
LAST-MODIFIED:20250218T174929Z
UID:8698-1743012000-1743019200@water.wisc.edu
SUMMARY:The Flow Project: 2025 Art Show Opening in Stevens Point
DESCRIPTION:  \n \nExplore and celebrate water through art! The Flow Project paired undergraduate students from University of Wisconsin campuses with water professionals across the state to create art inspired by water. The gallery opening runs from 6:00-8:00 p.m. on Wednesday\, March 26. The artists will be present to discuss their work and inspiration. The show is open to the public during this time. Subsequently\, the exhibit will be up until 2:00 p.m. Friday\, March 28\, but viewing during this time is limited to registered members of the Wisconsin Lakes and Rivers Convention.
URL:https://water.wisc.edu/event/the-flow-project-2025-art-show-opening-in-stevens-point/
LOCATION:Holiday Inn & Convention Center\, 1001 Amber Ave\, Stevens Point\, WI\, 54482\, United States
ORGANIZER;CN="Water@UW-Madison":MAILTO:water@mailplus.wisc.edu
END:VEVENT
END:VCALENDAR