BEGIN:VCALENDAR
VERSION:2.0
PRODID:-//Water@UW-Madison - ECPv6.15.20//NONSGML v1.0//EN
CALSCALE:GREGORIAN
METHOD:PUBLISH
X-WR-CALNAME:Water@UW-Madison
X-ORIGINAL-URL:https://water.wisc.edu
X-WR-CALDESC:Events for Water@UW-Madison
REFRESH-INTERVAL;VALUE=DURATION:PT1H
X-Robots-Tag:noindex
X-PUBLISHED-TTL:PT1H
BEGIN:VTIMEZONE
TZID:America/Chicago
BEGIN:DAYLIGHT
TZOFFSETFROM:-0600
TZOFFSETTO:-0500
TZNAME:CDT
DTSTART:20240310T080000
END:DAYLIGHT
BEGIN:STANDARD
TZOFFSETFROM:-0500
TZOFFSETTO:-0600
TZNAME:CST
DTSTART:20241103T070000
END:STANDARD
BEGIN:DAYLIGHT
TZOFFSETFROM:-0600
TZOFFSETTO:-0500
TZNAME:CDT
DTSTART:20250309T080000
END:DAYLIGHT
BEGIN:STANDARD
TZOFFSETFROM:-0500
TZOFFSETTO:-0600
TZNAME:CST
DTSTART:20251102T070000
END:STANDARD
BEGIN:DAYLIGHT
TZOFFSETFROM:-0600
TZOFFSETTO:-0500
TZNAME:CDT
DTSTART:20260308T080000
END:DAYLIGHT
BEGIN:STANDARD
TZOFFSETFROM:-0500
TZOFFSETTO:-0600
TZNAME:CST
DTSTART:20261101T070000
END:STANDARD
END:VTIMEZONE
BEGIN:VEVENT
DTSTART;TZID=America/Chicago:20250403T153000
DTEND;TZID=America/Chicago:20250403T163000
DTSTAMP:20260421T091306
CREATED:20250225T181557Z
LAST-MODIFIED:20250225T181557Z
UID:8736-1743694200-1743697800@water.wisc.edu
SUMMARY:Dr. Laura Reynolds - Coastal Marine Ecology
DESCRIPTION:Join us for a lecture by Coastal Marine Ecologist Dr. Laura Reynolds. \nhttps://soils.ifas.ufl.edu/coastal-and-marine-ecology-lab/
URL:https://water.wisc.edu/event/dr-laura-reynolds-coastal-marine-ecology/
LOCATION:Room 168\, Noland Hall\, 250 N. Mills St\, Madison\, 53706\, United States
END:VEVENT
END:VCALENDAR