BEGIN:VCALENDAR
VERSION:2.0
PRODID:-//Water@UW-Madison - ECPv6.15.20//NONSGML v1.0//EN
CALSCALE:GREGORIAN
METHOD:PUBLISH
X-ORIGINAL-URL:https://water.wisc.edu
X-WR-CALDESC:Events for Water@UW-Madison
REFRESH-INTERVAL;VALUE=DURATION:PT1H
X-Robots-Tag:noindex
X-PUBLISHED-TTL:PT1H
BEGIN:VTIMEZONE
TZID:America/Chicago
BEGIN:DAYLIGHT
TZOFFSETFROM:-0600
TZOFFSETTO:-0500
TZNAME:CDT
DTSTART:20250309T080000
END:DAYLIGHT
BEGIN:STANDARD
TZOFFSETFROM:-0500
TZOFFSETTO:-0600
TZNAME:CST
DTSTART:20251102T070000
END:STANDARD
BEGIN:DAYLIGHT
TZOFFSETFROM:-0600
TZOFFSETTO:-0500
TZNAME:CDT
DTSTART:20260308T080000
END:DAYLIGHT
BEGIN:STANDARD
TZOFFSETFROM:-0500
TZOFFSETTO:-0600
TZNAME:CST
DTSTART:20261101T070000
END:STANDARD
BEGIN:DAYLIGHT
TZOFFSETFROM:-0600
TZOFFSETTO:-0500
TZNAME:CDT
DTSTART:20270314T080000
END:DAYLIGHT
BEGIN:STANDARD
TZOFFSETFROM:-0500
TZOFFSETTO:-0600
TZNAME:CST
DTSTART:20271107T070000
END:STANDARD
END:VTIMEZONE
BEGIN:VEVENT
DTSTART;TZID=America/Chicago:20260422T140000
DTEND;TZID=America/Chicago:20260422T170000
DTSTAMP:20260420T214310
CREATED:20251210T211516Z
LAST-MODIFIED:20260406T153445Z
UID:10392-1776866400-1776877200@water.wisc.edu
SUMMARY:Water@UW-Madison 2026 Spring Symposium
DESCRIPTION:Register Here\n\nBlue Futures\n“Blue Futures” captures the urgency and opportunity at the heart of water sustainability. As emerging technologies\, scientific innovation\, and evolving policy landscapes transform the way we live and work\, this event explores their influence on water systems. It highlights the innovations\, partnerships\, and policies redefining how we understand\, manage\, and protect our most vital water resources. \nThis event is part of UW–Madison Earth Fest 2026\, a campus-wide celebration of sustainability and the environment.
URL:https://water.wisc.edu/event/spring-symposium-2026/
LOCATION:Frank Holt Center\, 1650 Kronshage Dr.\, Madison\, WI\, 53706
ORGANIZER;CN="Water@UW-Madison":MAILTO:water@mailplus.wisc.edu
END:VEVENT
BEGIN:VEVENT
DTSTART;TZID=America/Chicago:20260730T150000
DTEND;TZID=America/Chicago:20260730T173000
DTSTAMP:20260420T214310
CREATED:20260420T151444Z
LAST-MODIFIED:20260420T160513Z
UID:10516-1785423600-1785432600@water.wisc.edu
SUMMARY:Freshwater@UW + STORM Undergraduate Summer Research Symposium
DESCRIPTION:Join us to celebrate the accomplishments of the 2025 Freshwater@UW Summer Research Scholars at our annual poster and flash talk event. 39 undergraduates will share the findings from their 9-week summer mentored research experience. This event provides a glimpse into an incredible cross-section of atmospheric and water-related research in the state of Wisconsin\, with mentors and undergraduates from many of the Universities of Wisconsin participating. For more information on the research opportunities\, including how to get involved as a student or mentor\, visit the Freshwater@UW program page. \nWisconsin Institute for Discovery \n3pm – 4pm          Flash Talks – DeLuca Forum \n4pm – 5:30pm    Poster Session – Atrium \nThree women discuss water research at an undergraduate summer research Symposium.\n 
URL:https://water.wisc.edu/event/freshwateruw-storm-undergraduate-summer-research-symposium/
LOCATION:Wisconsin Institute for Discovery\, 330 N Orchard St\, Madison\, WI\, 53715\, United States
END:VEVENT
END:VCALENDAR