BEGIN:VCALENDAR
VERSION:2.0
PRODID:-//Water@UW-Madison - ECPv6.15.20//NONSGML v1.0//EN
CALSCALE:GREGORIAN
METHOD:PUBLISH
X-WR-CALNAME:Water@UW-Madison
X-ORIGINAL-URL:https://water.wisc.edu
X-WR-CALDESC:Events for Water@UW-Madison
REFRESH-INTERVAL;VALUE=DURATION:PT1H
X-Robots-Tag:noindex
X-PUBLISHED-TTL:PT1H
BEGIN:VTIMEZONE
TZID:America/Chicago
BEGIN:DAYLIGHT
TZOFFSETFROM:-0600
TZOFFSETTO:-0500
TZNAME:CDT
DTSTART:20240310T080000
END:DAYLIGHT
BEGIN:STANDARD
TZOFFSETFROM:-0500
TZOFFSETTO:-0600
TZNAME:CST
DTSTART:20241103T070000
END:STANDARD
BEGIN:DAYLIGHT
TZOFFSETFROM:-0600
TZOFFSETTO:-0500
TZNAME:CDT
DTSTART:20250309T080000
END:DAYLIGHT
BEGIN:STANDARD
TZOFFSETFROM:-0500
TZOFFSETTO:-0600
TZNAME:CST
DTSTART:20251102T070000
END:STANDARD
BEGIN:DAYLIGHT
TZOFFSETFROM:-0600
TZOFFSETTO:-0500
TZNAME:CDT
DTSTART:20260308T080000
END:DAYLIGHT
BEGIN:STANDARD
TZOFFSETFROM:-0500
TZOFFSETTO:-0600
TZNAME:CST
DTSTART:20261101T070000
END:STANDARD
END:VTIMEZONE
BEGIN:VEVENT
DTSTART;VALUE=DATE:20250430
DTEND;VALUE=DATE:20250503
DTSTAMP:20260421T044442
CREATED:20250225T181755Z
LAST-MODIFIED:20250331T152327Z
UID:8740-1745971200-1746230399@water.wisc.edu
SUMMARY:Midwest Climate Summit 2025
DESCRIPTION:https://midwestclimatecollaborative.wustl.edu/summit2025/ \nThe Midwest Climate Summit is a three-day gathering of climate leaders\, researchers\, and professionals focused on expanding knowledge\, accelerating climate action\, and catalyzing new partnerships for an equitable Midwestern response to the climate crisis. It is the premiere event in the region for those responding to the climate crisis in the Midwest. \nJoin the MCC\, and our host\, the University of Wisconsin-Madison\, on the scenic shore of Lake Mendota at the Memorial Union for this fabulous 3-day event as we move climate ideas and actions forward. \n\nEarly Bird Registration is Open!\nEarly bird prices will end March 7th. Register soon and book your lodging to take advantage of the Summit room blocks.
URL:https://water.wisc.edu/event/8740/
LOCATION:Memorial Union\, 800 Langdon St\, Madison\, WI\, 53706\, United States
END:VEVENT
BEGIN:VEVENT
DTSTART;TZID=America/Chicago:20250505T140000
DTEND;TZID=America/Chicago:20250505T170000
DTSTAMP:20260421T044442
CREATED:20241212T175236Z
LAST-MODIFIED:20250313T161747Z
UID:8544-1746453600-1746464400@water.wisc.edu
SUMMARY:Water@UW-Madison Spring Symposium
DESCRIPTION:  \n \n  \nWater@UW-Madison will host their annual Spring Symposium on Monday\, May 5\, 2025 from 2-5 pm. The Symposium theme is The Art of Water Research. \nThere are many definitions of art\, all of which are intended and represented in the theme of this year’s Water@UW symposium  These definitions include but are not limited to “a branch of learning\,” “skill acquired through practice or study\,” and “works produced by human creative skill and imagination appreciated primarily for their beauty or emotional power.”\n\nThis event will span the broad scope of work happening within the Water@UW network with the goal to highlight the commonalities in process\, thought\, and beauty of results across disciplines of water research. Presenters who wish to go beyond traditional talk formats to convey the art of their process (how they do water research) and the art of their results (where is the beauty in their work) will be welcomed and encouraged.\n\nWe aim for the event to inspire creativity\, reveal new perspectives or interpretations of results\, and promote an appreciation of the beauty in both water and water research. Through keynotes\, lightning presentations\, and structured networking time\, this event will bring together members of the Water@UW community and beyond and provide opportunities to draw inspiration from the creative approaches each of us bring to our science and art.\n\nRegister Now!
URL:https://water.wisc.edu/event/spring-symposium-2025/
LOCATION:Union South\, 1308 W Dayton St\, Madison\, WI\, 53715\, United States
END:VEVENT
END:VCALENDAR